BEGIN:VCALENDAR
VERSION:2.0
PRODID:-//Lewiston Choraleers - ECPv6.15.20//NONSGML v1.0//EN
CALSCALE:GREGORIAN
METHOD:PUBLISH
X-WR-CALNAME:Lewiston Choraleers
X-ORIGINAL-URL:https://lewistonchoraleers.com
X-WR-CALDESC:Events for Lewiston Choraleers
REFRESH-INTERVAL;VALUE=DURATION:PT1H
X-Robots-Tag:noindex
X-PUBLISHED-TTL:PT1H
BEGIN:VTIMEZONE
TZID:America/New_York
BEGIN:DAYLIGHT
TZOFFSETFROM:-0500
TZOFFSETTO:-0400
TZNAME:EDT
DTSTART:20250309T070000
END:DAYLIGHT
BEGIN:STANDARD
TZOFFSETFROM:-0400
TZOFFSETTO:-0500
TZNAME:EST
DTSTART:20251102T060000
END:STANDARD
BEGIN:DAYLIGHT
TZOFFSETFROM:-0500
TZOFFSETTO:-0400
TZNAME:EDT
DTSTART:20260308T070000
END:DAYLIGHT
BEGIN:STANDARD
TZOFFSETFROM:-0400
TZOFFSETTO:-0500
TZNAME:EST
DTSTART:20261101T060000
END:STANDARD
BEGIN:DAYLIGHT
TZOFFSETFROM:-0500
TZOFFSETTO:-0400
TZNAME:EDT
DTSTART:20270314T070000
END:DAYLIGHT
BEGIN:STANDARD
TZOFFSETFROM:-0400
TZOFFSETTO:-0500
TZNAME:EST
DTSTART:20271107T060000
END:STANDARD
END:VTIMEZONE
BEGIN:VTIMEZONE
TZID:UTC
BEGIN:STANDARD
TZOFFSETFROM:+0000
TZOFFSETTO:+0000
TZNAME:UTC
DTSTART:20250101T000000
END:STANDARD
END:VTIMEZONE
BEGIN:VEVENT
DTSTART;TZID=America/New_York:20260530T140000
DTEND;TZID=America/New_York:20260530T153000
DTSTAMP:20260424T044125
CREATED:20260210T174947Z
LAST-MODIFIED:20260423T143009Z
UID:9478-1780149600-1780155000@lewistonchoraleers.com
SUMMARY:Celebrating America's 250th Through Music
DESCRIPTION:
URL:https://lewistonchoraleers.com/event/celebrating-americas-250th-through-music-may-30th/
LOCATION:Bacon Memorial Presbyterian Church\, 166 - 59th Street\, Niagara Falls\, NY\, 14304\, United States
CATEGORIES:Holidays
ATTACH;FMTTYPE=image/webp:https://lewistonchoraleers.com/wp-content/uploads/2026/02/celebrating-america.webp
END:VEVENT
BEGIN:VEVENT
DTSTART;TZID=UTC:20260531T140000
DTEND;TZID=UTC:20260531T153000
DTSTAMP:20260424T044125
CREATED:20260210T015129Z
LAST-MODIFIED:20260423T143025Z
UID:419-1780236000-1780241400@lewistonchoraleers.com
SUMMARY:Celebrating America's 250th Through Music
DESCRIPTION:About The EventText Here. Text Here. Text Here. Text Here. Text Here. Text Here. Text Here. Text Here. Text Here. Text Here. Text Here. Text Here. Text Here. Text Here. \nText Here. Text Here. Text Here. Text Here. Text Here. Text Here. Text Here. Text Here. Text Here. Text Here. Text Here. Text Here. Text Here. \nExtra Event InformationFermentum porttitor vel rhoncus arcu leot. Venenatis tincidunt velit aculis scelerisque cursus viverra bitae id ornare integer rutrum. Eu vitae sodales fringilla velk aliquam elit sed mauris aliquam blandit. Quisque elementum turpis quis dapibus vputate. Nullam vitae ligula non nibh solicitudin auctor id sed quam. Curabitur elit est\, aliquamd erat sed placerat cursus sapien. Suspen disse potentia nunc lorem ante. \nInterdum facilisis justo a malesuada interdum elit. Fusce varius dolor velit consectetur diam ornare mollis. Duis odio lectus\, porta sit amet ursus ac vehicula vitae erat. Proin at ullamcorper urna. Vestibulum in suscipit nulla. Integer vitae ipsum ipsum. Pellent esque est lacus auctor. \n\nChecklist Item #1 \nChecklist Item #2Checklist Item #3Checklist Item #4Share This Event
URL:https://lewistonchoraleers.com/event/celebrating-americas-250th-through-music-may-31st/
LOCATION:First United Methodist Church\, 8210 Buffalo Avenue\, Niagara Falls\, NY\, 14304\, United States
CATEGORIES:Holidays
ATTACH;FMTTYPE=image/webp:https://lewistonchoraleers.com/wp-content/uploads/2026/02/celebrating-america.webp
END:VEVENT
BEGIN:VEVENT
DTSTART;TZID=UTC:20260606T140000
DTEND;TZID=UTC:20260606T153000
DTSTAMP:20260424T044125
CREATED:20260209T020524Z
LAST-MODIFIED:20260422T042404Z
UID:430-1780754400-1780759800@lewistonchoraleers.com
SUMMARY:Celebrating America's 250th Through Music
DESCRIPTION:About The EventText Here. Text Here. Text Here. Text Here. Text Here. Text Here. Text Here. Text Here. Text Here. Text Here. Text Here. Text Here. Text Here. Text Here. \nText Here. Text Here. Text Here. Text Here. Text Here. Text Here. Text Here. Text Here. Text Here. Text Here. Text Here. Text Here. Text Here. \nExtra Event InformationFermentum porttitor vel rhoncus arcu leot. Venenatis tincidunt velit aculis scelerisque cursus viverra bitae id ornare integer rutrum. Eu vitae sodales fringilla velk aliquam elit sed mauris aliquam blandit. Quisque elementum turpis quis dapibus vputate. Nullam vitae ligula non nibh solicitudin auctor id sed quam. Curabitur elit est\, aliquamd erat sed placerat cursus sapien. Suspen disse potentia nunc lorem ante. \nInterdum facilisis justo a malesuada interdum elit. Fusce varius dolor velit consectetur diam ornare mollis. Duis odio lectus\, porta sit amet ursus ac vehicula vitae erat. Proin at ullamcorper urna. Vestibulum in suscipit nulla. Integer vitae ipsum ipsum. Pellent esque est lacus auctor. \n\nChecklist Item #1 \nChecklist Item #2Checklist Item #3Checklist Item #4Share This Event
URL:https://lewistonchoraleers.com/event/celebrating-americas-250th-through-music-june-6th/
LOCATION:First Presbyterian Church\, 505 Cayuga Street\, Lewiston\, NY\, 14092\, United States
CATEGORIES:Holidays
ATTACH;FMTTYPE=image/webp:https://lewistonchoraleers.com/wp-content/uploads/2026/02/celebrating-america.webp
END:VEVENT
BEGIN:VEVENT
DTSTART;TZID=UTC:20260607T140000
DTEND;TZID=UTC:20260607T153000
DTSTAMP:20260424T044125
CREATED:20260203T021259Z
LAST-MODIFIED:20260422T042455Z
UID:433-1780840800-1780846200@lewistonchoraleers.com
SUMMARY:Celebrating America's 250th Through Music
DESCRIPTION:About The EventText Here. Text Here. Text Here. Text Here. Text Here. Text Here. Text Here. Text Here. Text Here. Text Here. Text Here. Text Here. Text Here. Text Here. \nText Here. Text Here. Text Here. Text Here. Text Here. Text Here. Text Here. Text Here. Text Here. Text Here. Text Here. Text Here. Text Here. \nExtra Event InformationFermentum porttitor vel rhoncus arcu leot. Venenatis tincidunt velit aculis scelerisque cursus viverra bitae id ornare integer rutrum. Eu vitae sodales fringilla velk aliquam elit sed mauris aliquam blandit. Quisque elementum turpis quis dapibus vputate. Nullam vitae ligula non nibh solicitudin auctor id sed quam. Curabitur elit est\, aliquamd erat sed placerat cursus sapien. Suspen disse potentia nunc lorem ante. \nInterdum facilisis justo a malesuada interdum elit. Fusce varius dolor velit consectetur diam ornare mollis. Duis odio lectus\, porta sit amet ursus ac vehicula vitae erat. Proin at ullamcorper urna. Vestibulum in suscipit nulla. Integer vitae ipsum ipsum. Pellent esque est lacus auctor. \n\nChecklist Item #1 \nChecklist Item #2Checklist Item #3Checklist Item #4Share This Event
URL:https://lewistonchoraleers.com/event/celebrating-americas-250th-through-music-june-7th/
LOCATION:Messiah Lutheran Church\, 915 Oneida Street\, Lewiston\, NY\, 14092\, United States
CATEGORIES:Holidays
ATTACH;FMTTYPE=image/webp:https://lewistonchoraleers.com/wp-content/uploads/2026/02/celebrating-america.webp
END:VEVENT
END:VCALENDAR